Package: airpart Version: 1.10.0 Command: rm -rf airpart.buildbin-libdir && mkdir airpart.buildbin-libdir && F:\biocbuild\bbs-3.18-bioc\R\bin\R.exe CMD INSTALL --build --library=airpart.buildbin-libdir airpart_1.10.0.tar.gz StartedAt: 2024-04-16 06:37:36 -0400 (Tue, 16 Apr 2024) EndedAt: 2024-04-16 06:38:19 -0400 (Tue, 16 Apr 2024) EllapsedTime: 43.5 seconds RetCode: 0 Status: OK PackageFile: airpart_1.10.0.zip PackageFileSize: 802.7 KiB