Package: alabaster.bumpy Version: 1.2.0 Command: /home/biocbuild/R/R-4.3.1/bin/R CMD check --install=check:alabaster.bumpy.install-out.txt --library=/home/biocbuild/R/R-4.3.1/site-library --no-vignettes --timings alabaster.bumpy_1.2.0.tar.gz StartedAt: 2023-11-02 08:14:22 -0000 (Thu, 02 Nov 2023) EndedAt: 2023-11-02 08:16:29 -0000 (Thu, 02 Nov 2023) EllapsedTime: 127.5 seconds RetCode: 0 Status: OK CheckDir: alabaster.bumpy.Rcheck Warnings: 0