Package: alabaster.bumpy Version: 1.2.0 Command: /home/biocbuild/R/R-4.3.1/bin/R CMD INSTALL alabaster.bumpy StartedAt: 2023-11-01 20:14:46 -0000 (Wed, 01 Nov 2023) EndedAt: 2023-11-01 20:15:02 -0000 (Wed, 01 Nov 2023) EllapsedTime: 16.0 seconds RetCode: 0 Status: OK