Package: alabaster.bumpy Version: 1.2.0 Command: rm -rf alabaster.bumpy.buildbin-libdir && mkdir alabaster.bumpy.buildbin-libdir && F:\biocbuild\bbs-3.18-bioc\R\bin\R.exe CMD INSTALL --build --library=alabaster.bumpy.buildbin-libdir alabaster.bumpy_1.2.0.tar.gz StartedAt: 2024-04-16 06:37:40 -0400 (Tue, 16 Apr 2024) EndedAt: 2024-04-16 06:37:55 -0400 (Tue, 16 Apr 2024) EllapsedTime: 15.0 seconds RetCode: 0 Status: OK PackageFile: alabaster.bumpy_1.2.0.zip PackageFileSize: 265.7 KiB