Package: alabaster.vcf Version: 1.2.0 Command: /Library/Frameworks/R.framework/Resources/bin/R CMD build --keep-empty-dirs --no-resave-data alabaster.vcf StartedAt: 2024-03-03 15:51:26 -0500 (Sun, 03 Mar 2024) EndedAt: 2024-03-03 15:52:44 -0500 (Sun, 03 Mar 2024) EllapsedTime: 77.9 seconds RetCode: 0 Status: OK PackageFile: alabaster.vcf_1.2.0.tar.gz PackageFileSize: 224 KiB