Package: alabaster.vcf Version: 1.2.0 Command: /home/biocbuild/bbs-3.18-bioc/R/bin/R CMD build --keep-empty-dirs --no-resave-data alabaster.vcf StartedAt: 2024-04-15 15:56:55 -0400 (Mon, 15 Apr 2024) EndedAt: 2024-04-15 15:57:59 -0400 (Mon, 15 Apr 2024) EllapsedTime: 64.5 seconds RetCode: 0 Status: OK PackageFile: alabaster.vcf_1.2.0.tar.gz PackageFileSize: 224.2 KiB