Package: alabaster Version: 1.2.0 Command: /Library/Frameworks/R.framework/Resources/bin/R CMD build --keep-empty-dirs --no-resave-data alabaster StartedAt: 2024-03-03 15:50:59 -0500 (Sun, 03 Mar 2024) EndedAt: 2024-03-03 15:52:00 -0500 (Sun, 03 Mar 2024) EllapsedTime: 60.9 seconds RetCode: 0 Status: OK PackageFile: alabaster_1.2.0.tar.gz PackageFileSize: 215.5 KiB