Package: alabaster Version: 1.2.0 Command: /Library/Frameworks/R.framework/Resources/bin/R CMD check --install=check:alabaster.install-out.txt --library=/Library/Frameworks/R.framework/Resources/library --no-vignettes --timings alabaster_1.2.0.tar.gz StartedAt: 2024-03-03 18:52:04 -0500 (Sun, 03 Mar 2024) EndedAt: 2024-03-03 18:56:37 -0500 (Sun, 03 Mar 2024) EllapsedTime: 273.2 seconds RetCode: 0 Status: OK CheckDir: alabaster.Rcheck Warnings: 0