Package: alabaster Version: 1.2.0 Command: /Library/Frameworks/R.framework/Resources/bin/R CMD INSTALL alabaster StartedAt: 2024-04-15 16:26:24 -0400 (Mon, 15 Apr 2024) EndedAt: 2024-04-15 16:28:03 -0400 (Mon, 15 Apr 2024) EllapsedTime: 98.4 seconds RetCode: 0 Status: OK