Package: alevinQC Version: 1.18.1 Command: F:\biocbuild\bbs-3.18-bioc\R\bin\R.exe CMD INSTALL alevinQC StartedAt: 2024-04-15 16:12:18 -0400 (Mon, 15 Apr 2024) EndedAt: 2024-04-15 16:12:44 -0400 (Mon, 15 Apr 2024) EllapsedTime: 25.1 seconds RetCode: 0 Status: OK