Package: annmap Version: 1.44.0 Command: /Library/Frameworks/R.framework/Resources/bin/R CMD INSTALL annmap StartedAt: 2024-03-03 15:33:15 -0500 (Sun, 03 Mar 2024) EndedAt: 2024-03-03 15:33:51 -0500 (Sun, 03 Mar 2024) EllapsedTime: 35.9 seconds RetCode: 0 Status: OK