Package: annotationTools Version: 1.76.0 Command: /home/biocbuild/R/R-4.3.1/bin/R CMD check --install=check:annotationTools.install-out.txt --library=/home/biocbuild/R/R-4.3.1/site-library --no-vignettes --timings annotationTools_1.76.0.tar.gz StartedAt: 2023-11-02 08:19:49 -0000 (Thu, 02 Nov 2023) EndedAt: 2023-11-02 08:20:16 -0000 (Thu, 02 Nov 2023) EllapsedTime: 27.0 seconds RetCode: 0 Status: OK CheckDir: annotationTools.Rcheck Warnings: 0