Package: annotatr Version: 1.28.0 Command: /home/biocbuild/R/R-4.3.1/bin/R CMD build --keep-empty-dirs --no-resave-data annotatr StartedAt: 2023-11-01 22:16:54 -0000 (Wed, 01 Nov 2023) EndedAt: 2023-11-01 22:19:42 -0000 (Wed, 01 Nov 2023) EllapsedTime: 168.2 seconds RetCode: 0 Status: OK PackageFile: annotatr_1.28.0.tar.gz PackageFileSize: 2.416 MiB