Package: annotatr Version: 1.28.0 Command: /home/biocbuild/R/R-4.3.1/bin/R CMD INSTALL annotatr StartedAt: 2023-11-01 21:03:50 -0000 (Wed, 01 Nov 2023) EndedAt: 2023-11-01 21:04:47 -0000 (Wed, 01 Nov 2023) EllapsedTime: 57.5 seconds RetCode: 0 Status: OK