Package: annotatr Version: 1.28.0 Command: /home/biocbuild/bbs-3.18-bioc/R/bin/R CMD build --keep-empty-dirs --no-resave-data annotatr StartedAt: 2024-04-15 15:58:26 -0400 (Mon, 15 Apr 2024) EndedAt: 2024-04-15 16:00:19 -0400 (Mon, 15 Apr 2024) EllapsedTime: 113.5 seconds RetCode: 0 Status: OK PackageFile: annotatr_1.28.0.tar.gz PackageFileSize: 2.327 MiB