Package: annotatr Version: 1.28.0 Command: rm -rf annotatr.buildbin-libdir && mkdir annotatr.buildbin-libdir && F:\biocbuild\bbs-3.18-bioc\R\bin\R.exe CMD INSTALL --build --library=annotatr.buildbin-libdir annotatr_1.28.0.tar.gz StartedAt: 2024-04-16 06:38:41 -0400 (Tue, 16 Apr 2024) EndedAt: 2024-04-16 06:39:36 -0400 (Tue, 16 Apr 2024) EllapsedTime: 55.1 seconds RetCode: 0 Status: OK PackageFile: annotatr_1.28.0.zip PackageFileSize: 2.213 MiB