Package: annotatr Version: 1.28.0 Command: chmod a+r annotatr -R && F:\biocbuild\bbs-3.18-bioc\R\bin\R.exe CMD build --keep-empty-dirs --no-resave-data annotatr StartedAt: 2024-04-15 16:57:22 -0400 (Mon, 15 Apr 2024) EndedAt: 2024-04-15 16:59:41 -0400 (Mon, 15 Apr 2024) EllapsedTime: 138.7 seconds RetCode: 0 Status: OK PackageFile: annotatr_1.28.0.tar.gz PackageFileSize: 1.992 MiB