Package: annotatr Version: 1.28.0 Command: F:\biocbuild\bbs-3.18-bioc\R\bin\R.exe CMD INSTALL annotatr StartedAt: 2024-04-15 16:47:29 -0400 (Mon, 15 Apr 2024) EndedAt: 2024-04-15 16:48:25 -0400 (Mon, 15 Apr 2024) EllapsedTime: 55.6 seconds RetCode: 0 Status: OK