Package: anota Version: 1.50.0 Command: /home/biocbuild/R/R-4.3.1/bin/R CMD build --keep-empty-dirs --no-resave-data anota StartedAt: 2023-11-01 22:17:12 -0000 (Wed, 01 Nov 2023) EndedAt: 2023-11-01 22:17:48 -0000 (Wed, 01 Nov 2023) EllapsedTime: 36.1 seconds RetCode: 0 Status: OK PackageFile: anota_1.50.0.tar.gz PackageFileSize: 936.7 KiB