Package: anota Version: 1.50.0 Command: /home/biocbuild/R/R-4.3.1/bin/R CMD check --install=check:anota.install-out.txt --library=/home/biocbuild/R/R-4.3.1/site-library --no-vignettes --timings anota_1.50.0.tar.gz StartedAt: 2023-11-02 08:20:16 -0000 (Thu, 02 Nov 2023) EndedAt: 2023-11-02 08:21:44 -0000 (Thu, 02 Nov 2023) EllapsedTime: 87.2 seconds RetCode: 0 Status: OK CheckDir: anota.Rcheck Warnings: 0