Package: anota Version: 1.50.0 Command: rm -rf anota.buildbin-libdir && mkdir anota.buildbin-libdir && /Users/biocbuild/BBS/utils/build-universal.sh anota_1.50.0.tar.gz /Library/Frameworks/R.framework/Resources/bin/R anota.buildbin-libdir StartedAt: 2024-04-16 10:58:53 -0400 (Tue, 16 Apr 2024) EndedAt: 2024-04-16 10:59:15 -0400 (Tue, 16 Apr 2024) EllapsedTime: 22.2 seconds RetCode: 0 Status: OK PackageFile: anota_1.50.0.tgz PackageFileSize: 712.7 KiB