Package: anota Version: 1.50.0 Command: /home/biocbuild/bbs-3.18-bioc/R/bin/R CMD INSTALL anota StartedAt: 2024-04-15 15:39:01 -0400 (Mon, 15 Apr 2024) EndedAt: 2024-04-15 15:39:11 -0400 (Mon, 15 Apr 2024) EllapsedTime: 9.6 seconds RetCode: 0 Status: OK