Package: anota2seq Version: 1.24.0 Command: /Library/Frameworks/R.framework/Resources/bin/R CMD INSTALL anota2seq StartedAt: 2024-04-15 16:15:02 -0400 (Mon, 15 Apr 2024) EndedAt: 2024-04-15 16:16:10 -0400 (Mon, 15 Apr 2024) EllapsedTime: 68.3 seconds RetCode: 0 Status: OK