Package: anota2seq Version: 1.24.0 Command: rm -rf anota2seq.buildbin-libdir && mkdir anota2seq.buildbin-libdir && F:\biocbuild\bbs-3.18-bioc\R\bin\R.exe CMD INSTALL --build --library=anota2seq.buildbin-libdir anota2seq_1.24.0.tar.gz StartedAt: 2024-04-16 06:38:45 -0400 (Tue, 16 Apr 2024) EndedAt: 2024-04-16 06:39:39 -0400 (Tue, 16 Apr 2024) EllapsedTime: 54.9 seconds RetCode: 0 Status: OK PackageFile: anota2seq_1.24.0.zip PackageFileSize: 1.559 MiB