Package: anota2seq Version: 1.24.0 Command: chmod a+r anota2seq -R && F:\biocbuild\bbs-3.18-bioc\R\bin\R.exe CMD build --keep-empty-dirs --no-resave-data anota2seq StartedAt: 2024-04-15 16:57:36 -0400 (Mon, 15 Apr 2024) EndedAt: 2024-04-15 17:00:45 -0400 (Mon, 15 Apr 2024) EllapsedTime: 188.9 seconds RetCode: 0 Status: OK PackageFile: anota2seq_1.24.0.tar.gz PackageFileSize: 1.005 MiB