Package: antiProfiles Version: 1.42.0 Command: rm -rf antiProfiles.buildbin-libdir && mkdir antiProfiles.buildbin-libdir && /Users/biocbuild/BBS/utils/build-universal.sh antiProfiles_1.42.0.tar.gz /Library/Frameworks/R.framework/Resources/bin/R antiProfiles.buildbin-libdir StartedAt: 2024-04-16 10:59:09 -0400 (Tue, 16 Apr 2024) EndedAt: 2024-04-16 10:59:16 -0400 (Tue, 16 Apr 2024) EllapsedTime: 7.4 seconds RetCode: 0 Status: OK PackageFile: antiProfiles_1.42.0.tgz PackageFileSize: 269.4 KiB