Package: antiProfiles Version: 1.42.0 Command: /Library/Frameworks/R.framework/Resources/bin/R CMD INSTALL antiProfiles StartedAt: 2024-04-15 15:07:59 -0400 (Mon, 15 Apr 2024) EndedAt: 2024-04-15 15:08:28 -0400 (Mon, 15 Apr 2024) EllapsedTime: 28.9 seconds RetCode: 0 Status: OK