Package: apComplex Version: 2.68.0 Command: /home/biocbuild/bbs-3.18-bioc/R/bin/R CMD check --install=check:apComplex.install-out.txt --library=/home/biocbuild/bbs-3.18-bioc/R/site-library --timings apComplex_2.68.0.tar.gz StartedAt: 2024-04-15 20:04:37 -0400 (Mon, 15 Apr 2024) EndedAt: 2024-04-15 20:06:30 -0400 (Mon, 15 Apr 2024) EllapsedTime: 113.2 seconds RetCode: 0 Status: OK CheckDir: apComplex.Rcheck Warnings: 0