Package: arrayMvout Version: 1.60.0 Command: /Library/Frameworks/R.framework/Resources/bin/R CMD build --keep-empty-dirs --no-resave-data arrayMvout StartedAt: 2024-03-03 15:53:31 -0500 (Sun, 03 Mar 2024) EndedAt: 2024-03-03 15:54:52 -0500 (Sun, 03 Mar 2024) EllapsedTime: 81.6 seconds RetCode: 0 Status: OK PackageFile: arrayMvout_1.60.0.tar.gz PackageFileSize: 692.4 KiB