Package: arrayMvout Version: 1.60.0 Command: rm -rf arrayMvout.buildbin-libdir && mkdir arrayMvout.buildbin-libdir && /Users/biocbuild/BBS/utils/build-universal.sh arrayMvout_1.60.0.tar.gz /Library/Frameworks/R.framework/Resources/bin/R arrayMvout.buildbin-libdir StartedAt: 2024-04-16 10:59:32 -0400 (Tue, 16 Apr 2024) EndedAt: 2024-04-16 11:02:09 -0400 (Tue, 16 Apr 2024) EllapsedTime: 157.1 seconds RetCode: 0 Status: OK PackageFile: arrayMvout_1.60.0.tgz PackageFileSize: 859.7 KiB