Package: arrayMvout Version: 1.60.0 Command: /Library/Frameworks/R.framework/Resources/bin/R CMD check --install=check:arrayMvout.install-out.txt --library=/Library/Frameworks/R.framework/Resources/library --no-vignettes --timings arrayMvout_1.60.0.tar.gz StartedAt: 2024-04-15 23:19:06 -0400 (Mon, 15 Apr 2024) EndedAt: 2024-04-15 23:29:07 -0400 (Mon, 15 Apr 2024) EllapsedTime: 601.1 seconds RetCode: 0 Status: OK CheckDir: arrayMvout.Rcheck Warnings: 0