Package: arrayMvout Version: 1.60.0 Command: /Library/Frameworks/R.framework/Resources/bin/R CMD INSTALL arrayMvout StartedAt: 2024-04-15 16:35:59 -0400 (Mon, 15 Apr 2024) EndedAt: 2024-04-15 16:37:42 -0400 (Mon, 15 Apr 2024) EllapsedTime: 103.2 seconds RetCode: 0 Status: OK