Package: arrayMvout Version: 1.60.0 Command: /home/biocbuild/bbs-3.18-bioc/R/bin/R CMD build --keep-empty-dirs --no-resave-data arrayMvout StartedAt: 2024-04-15 15:59:13 -0400 (Mon, 15 Apr 2024) EndedAt: 2024-04-15 16:00:18 -0400 (Mon, 15 Apr 2024) EllapsedTime: 64.3 seconds RetCode: 0 Status: OK PackageFile: arrayMvout_1.60.0.tar.gz PackageFileSize: 581.9 KiB