Package: arrayMvout Version: 1.60.0 Command: F:\biocbuild\bbs-3.18-bioc\R\bin\R.exe CMD INSTALL arrayMvout StartedAt: 2024-04-15 16:42:40 -0400 (Mon, 15 Apr 2024) EndedAt: 2024-04-15 16:43:43 -0400 (Mon, 15 Apr 2024) EllapsedTime: 63.1 seconds RetCode: 0 Status: OK