Package: artMS Version: 1.20.0 Command: /home/biocbuild/R/R-4.3.1/bin/R CMD build --keep-empty-dirs --no-resave-data artMS StartedAt: 2023-11-01 22:18:39 -0000 (Wed, 01 Nov 2023) EndedAt: 2023-11-01 22:19:51 -0000 (Wed, 01 Nov 2023) EllapsedTime: 72.1 seconds RetCode: 0 Status: OK PackageFile: artMS_1.20.0.tar.gz PackageFileSize: 3.931 MiB