Package: atena Version: 1.8.0 Command: /home/biocbuild/R/R-4.3.1/bin/R CMD build --keep-empty-dirs --no-resave-data atena StartedAt: 2023-11-01 22:21:02 -0000 (Wed, 01 Nov 2023) EndedAt: 2023-11-01 22:23:25 -0000 (Wed, 01 Nov 2023) EllapsedTime: 143.2 seconds RetCode: 0 Status: OK PackageFile: atena_1.8.0.tar.gz PackageFileSize: 1.192 MiB