Package: atena Version: 1.8.0 Command: /home/biocbuild/R/R-4.3.1/bin/R CMD INSTALL atena StartedAt: 2023-11-01 21:03:40 -0000 (Wed, 01 Nov 2023) EndedAt: 2023-11-01 21:04:31 -0000 (Wed, 01 Nov 2023) EllapsedTime: 51.3 seconds RetCode: 0 Status: OK