Package: atena Version: 1.8.0 Command: rm -rf atena.buildbin-libdir && mkdir atena.buildbin-libdir && /Users/biocbuild/BBS/utils/build-universal.sh atena_1.8.0.tar.gz /Library/Frameworks/R.framework/Resources/bin/R atena.buildbin-libdir StartedAt: 2024-03-04 00:29:21 -0500 (Mon, 04 Mar 2024) EndedAt: 2024-03-04 00:30:16 -0500 (Mon, 04 Mar 2024) EllapsedTime: 54.1 seconds RetCode: 0 Status: OK PackageFile: atena_1.8.0.tgz PackageFileSize: 1.589 MiB