Package: attract Version: 1.54.0 Command: /home/biocbuild/R/R-4.3.1/bin/R CMD check --install=check:attract.install-out.txt --library=/home/biocbuild/R/R-4.3.1/site-library --no-vignettes --timings attract_1.54.0.tar.gz StartedAt: 2023-11-02 08:26:40 -0000 (Thu, 02 Nov 2023) EndedAt: 2023-11-02 08:31:10 -0000 (Thu, 02 Nov 2023) EllapsedTime: 270.5 seconds RetCode: 1 Status: ERROR CheckDir: attract.Rcheck Warnings: NA