Package: awst Version: 1.10.0 Command: rm -rf awst.buildbin-libdir && mkdir awst.buildbin-libdir && /Users/biocbuild/BBS/utils/build-universal.sh awst_1.10.0.tar.gz /Library/Frameworks/R.framework/Resources/bin/R awst.buildbin-libdir StartedAt: 2024-03-04 00:29:28 -0500 (Mon, 04 Mar 2024) EndedAt: 2024-03-04 00:29:59 -0500 (Mon, 04 Mar 2024) EllapsedTime: 30.4 seconds RetCode: 0 Status: OK PackageFile: awst_1.10.0.tgz PackageFileSize: 403.4 KiB