Package: awst Version: 1.10.0 Command: chmod a+r awst -R && F:\biocbuild\bbs-3.18-bioc\R\bin\R.exe CMD build --keep-empty-dirs --no-resave-data awst StartedAt: 2024-04-15 17:02:25 -0400 (Mon, 15 Apr 2024) EndedAt: 2024-04-15 17:03:19 -0400 (Mon, 15 Apr 2024) EllapsedTime: 53.6 seconds RetCode: 0 Status: OK PackageFile: awst_1.10.0.tar.gz PackageFileSize: 337.2 KiB