Package: bacon Version: 1.30.0 Command: /Library/Frameworks/R.framework/Resources/bin/R CMD build --keep-empty-dirs --no-resave-data bacon StartedAt: 2024-04-15 16:58:57 -0400 (Mon, 15 Apr 2024) EndedAt: 2024-04-15 17:00:07 -0400 (Mon, 15 Apr 2024) EllapsedTime: 69.9 seconds RetCode: 0 Status: OK PackageFile: bacon_1.30.0.tar.gz PackageFileSize: 2.087 MiB