Package: ballgown Version: 2.34.0 Command: /Library/Frameworks/R.framework/Resources/bin/R CMD build --keep-empty-dirs --no-resave-data ballgown StartedAt: 2024-03-03 15:55:55 -0500 (Sun, 03 Mar 2024) EndedAt: 2024-03-03 15:57:00 -0500 (Sun, 03 Mar 2024) EllapsedTime: 65.3 seconds RetCode: 0 Status: OK PackageFile: ballgown_2.34.0.tar.gz PackageFileSize: 3.037 MiB