Package: baySeq Version: 2.36.2 Command: chmod a+r baySeq -R && F:\biocbuild\bbs-3.18-bioc\R\bin\R.exe CMD build --keep-empty-dirs --no-resave-data baySeq StartedAt: 2024-04-15 17:04:56 -0400 (Mon, 15 Apr 2024) EndedAt: 2024-04-15 17:13:29 -0400 (Mon, 15 Apr 2024) EllapsedTime: 513.4 seconds RetCode: 0 Status: OK PackageFile: baySeq_2.36.2.tar.gz PackageFileSize: 1.125 MiB