Package: bcSeq Version: 1.24.0 Command: /home/biocbuild/R/R-4.3.1/bin/R CMD build --keep-empty-dirs --no-resave-data bcSeq StartedAt: 2023-11-01 22:30:01 -0000 (Wed, 01 Nov 2023) EndedAt: 2023-11-01 22:31:33 -0000 (Wed, 01 Nov 2023) EllapsedTime: 92.1 seconds RetCode: 0 Status: OK PackageFile: bcSeq_1.24.0.tar.gz PackageFileSize: 227.5 KiB