Package: bcSeq Version: 1.24.0 Command: /home/biocbuild/R/R-4.3.1/bin/R CMD check --install=check:bcSeq.install-out.txt --library=/home/biocbuild/R/R-4.3.1/site-library --no-vignettes --timings bcSeq_1.24.0.tar.gz StartedAt: 2023-11-02 08:33:26 -0000 (Thu, 02 Nov 2023) EndedAt: 2023-11-02 08:35:35 -0000 (Thu, 02 Nov 2023) EllapsedTime: 129.0 seconds RetCode: 0 Status: WARNINGS CheckDir: bcSeq.Rcheck Warnings: 1