Package: bcSeq Version: 1.24.0 Command: /home/biocbuild/R/R-4.3.1/bin/R CMD INSTALL bcSeq StartedAt: 2023-11-01 20:10:25 -0000 (Wed, 01 Nov 2023) EndedAt: 2023-11-01 20:12:00 -0000 (Wed, 01 Nov 2023) EllapsedTime: 94.6 seconds RetCode: 0 Status: OK