Package: bcSeq Version: 1.24.0 Command: /home/biocbuild/bbs-3.18-bioc/R/bin/R CMD build --keep-empty-dirs --no-resave-data bcSeq StartedAt: 2024-04-15 16:05:24 -0400 (Mon, 15 Apr 2024) EndedAt: 2024-04-15 16:06:21 -0400 (Mon, 15 Apr 2024) EllapsedTime: 57.3 seconds RetCode: 0 Status: OK PackageFile: bcSeq_1.24.0.tar.gz PackageFileSize: 236.2 KiB