Package: bcSeq Version: 1.24.0 Command: chmod a+r bcSeq -R && F:\biocbuild\bbs-3.18-bioc\R\bin\R.exe CMD build --keep-empty-dirs --no-resave-data bcSeq StartedAt: 2024-04-15 17:05:17 -0400 (Mon, 15 Apr 2024) EndedAt: 2024-04-15 17:06:50 -0400 (Mon, 15 Apr 2024) EllapsedTime: 92.1 seconds RetCode: 0 Status: OK PackageFile: bcSeq_1.24.0.tar.gz PackageFileSize: 237.7 KiB