Package: beachmat.hdf5 Version: 1.0.0 Command: /Library/Frameworks/R.framework/Resources/bin/R CMD check --install=check:beachmat.hdf5.install-out.txt --library=/Library/Frameworks/R.framework/Resources/library --no-vignettes --timings beachmat.hdf5_1.0.0.tar.gz StartedAt: 2024-04-15 23:40:17 -0400 (Mon, 15 Apr 2024) EndedAt: 2024-04-15 23:44:56 -0400 (Mon, 15 Apr 2024) EllapsedTime: 278.3 seconds RetCode: 0 Status: WARNINGS CheckDir: beachmat.hdf5.Rcheck Warnings: 1